BEGIN:VCALENDAR
VERSION:2.0
PRODID:-//Baukunstarchiv NRW - ECPv6.13.2.1//NONSGML v1.0//EN
CALSCALE:GREGORIAN
METHOD:PUBLISH
X-WR-CALNAME:Baukunstarchiv NRW
X-ORIGINAL-URL:https://baukunstarchiv.nrw
X-WR-CALDESC:Veranstaltungen für Baukunstarchiv NRW
REFRESH-INTERVAL;VALUE=DURATION:PT1H
X-Robots-Tag:noindex
X-PUBLISHED-TTL:PT1H
BEGIN:VTIMEZONE
TZID:Europe/Berlin
BEGIN:DAYLIGHT
TZOFFSETFROM:+0100
TZOFFSETTO:+0200
TZNAME:CEST
DTSTART:20190331T010000
END:DAYLIGHT
BEGIN:STANDARD
TZOFFSETFROM:+0200
TZOFFSETTO:+0100
TZNAME:CET
DTSTART:20191027T010000
END:STANDARD
END:VTIMEZONE
BEGIN:VEVENT
DTSTART;TZID=Europe/Berlin:20190904T140000
DTEND;TZID=Europe/Berlin:20190904T183000
DTSTAMP:20260422T154817
CREATED:20190816T155001Z
LAST-MODIFIED:20240620T095950Z
UID:10000057-1567605600-1567621800@baukunstarchiv.nrw
SUMMARY:Landschaftsarchitektentag 2019 - Freiraum macht Stadt
DESCRIPTION:Strategien zur zukunftssicheren Entwicklung innerstädtischer Freiräume stehen im Mittelpunkt des „Landschaftsarchitektentages 2019“ der Architektenkammer Nordrhein-Westfalen. Am 4. September soll im Dortmunder Baukunstarchiv NRW anhand methodischer Planungsansätze und konkreter Beispiele herausgearbeitet werden\, dass Landschaftsarchitektinnen und Landschaftsarchitekten wesentliche Beiträge zur qualitätvollen Gestaltung urbaner Freiflächen und zur nachhaltigen Entwicklung des Stadtklimas leisten können. \nZu den Referentinnen und Referenten des Landschaftsarchitektentages gehören AKNW-Vorstandsmitglied Karl-Heinz Danielzik (Auftaktimpuls: „Qualitätsoffensive für die Stadt der Zukunft“)\, Prof. Dr. Carlo Becker (BGMR Berlin: „Integrierte Stadtentwicklung aus Sicht der Freiraumplanung“)\, Hannah Schubert (b+b urbanism and landscape\, Amsterdam: „Pflanzenbilder und Atmosphäre“)\, Christian Dobrick (West 8\, Rotterdam: „Mehr Ökologie wagen“)\, Bernhard von Ehren (Baumschule Lorenz von Ehren\, Hamburg: „Mehr Bäume braucht die Stadt“) und Prof. Antje Stokman (HafenCity Universität Hamburg: „Wasser macht Stadt“). \nDer Landschaftsarchitektentag NRW versteht sich als Themenforum\, das auch dem Austausch innerhalb der Branche dient. \nEinladung (pdf) \nUm Anmeldung wird gebeten bis zum 28.08.2019 unter aknw.de.
URL:https://baukunstarchiv.nrw/event/landschaftsarchitektentag-2019-freiraum-macht-stadt/
LOCATION:Baukunstarchiv NRW\, Ostwall 7\, Dortmund\, 44135\, Deutschland
GEO:51.51303;7.47226
X-APPLE-STRUCTURED-LOCATION;VALUE=URI;X-ADDRESS=Baukunstarchiv NRW Ostwall 7 Dortmund 44135 Deutschland;X-APPLE-RADIUS=500;X-TITLE=Ostwall 7:geo:7.47226,51.51303
END:VEVENT
END:VCALENDAR